BEGIN:VCALENDAR
VERSION:2.0
PRODID:icalendar-ruby
CALSCALE:GREGORIAN
METHOD:PUBLISH
BEGIN:VEVENT
DTSTAMP:20260420T172422Z
UID:8-277909@livinghopefoursquare.church
DTSTART:20260809T170000Z
DTEND:20260809T190000Z
CLASS:PUBLIC
CREATED:20260420T085058
DESCRIPTION:
LAST-MODIFIED:20260420T085058
LOCATION:
SUMMARY:Sunday Worship Service
URL;VALUE=URI:https://livinghopefoursquare.church/events/sunday-worship-ser
 vice/2026-08-09
ATTACH;FILENAME=Sunday Service.png;FMTTYPE=image/png:https://dq5pwpg1q8ru0.
 cloudfront.net/2025/03/13/03/07/08/8df7f8f9-f8e1-45c6-80c8-5c92b0b88653/Su
 nday%20Service.png
END:VEVENT
END:VCALENDAR
