BEGIN:VCALENDAR
VERSION:2.0
PRODID:icalendar-ruby
CALSCALE:GREGORIAN
METHOD:PUBLISH
BEGIN:VEVENT
DTSTAMP:20260420T155946Z
UID:30-277923@livinghopefoursquare.church
DTSTART:20260531T160000Z
DTEND:20260531T164500Z
CLASS:PUBLIC
CREATED:20260420T085058
DESCRIPTION:
LAST-MODIFIED:20260420T085058
LOCATION:
SUMMARY:Faith Study
URL;VALUE=URI:https://livinghopefoursquare.church/events/faith-study/2026-0
 5-31
ATTACH;FILENAME=Faith Study.png;FMTTYPE=image/png:https://dq5pwpg1q8ru0.clo
 udfront.net/2026/04/19/23/23/35/97102185-6380-4ee5-bd9b-d836b6b7a180/Faith
 %20Study.png
END:VEVENT
END:VCALENDAR
