BEGIN:VCALENDAR
VERSION:2.0
PRODID:icalendar-ruby
CALSCALE:GREGORIAN
METHOD:PUBLISH
BEGIN:VEVENT
DTSTAMP:20260420T122819Z
UID:29-277323@livinghopefoursquare.church
DTSTART:20260517T160000Z
DTEND:20260517T164500Z
CLASS:PUBLIC
CREATED:20260419T172221
DESCRIPTION:
LAST-MODIFIED:20260419T172221
LOCATION:
SUMMARY:Child Protection Training
URL;VALUE=URI:https://livinghopefoursquare.church/events/child-protection-t
 raining/2026-05-17
ATTACH;FILENAME=Child Protection Training.png;FMTTYPE=image/png:https://dq5
 pwpg1q8ru0.cloudfront.net/2026/04/19/23/21/29/afac66f3-6ba6-4f63-b750-fa28
 c9aac548/Child%20Protection%20Training.png
END:VEVENT
END:VCALENDAR
